BEGIN:VCALENDAR
VERSION:2.0
PRODID:-//Visit Sauda - ECPv6.15.16//NONSGML v1.0//EN
CALSCALE:GREGORIAN
METHOD:PUBLISH
X-ORIGINAL-URL:https://visitsauda.no
X-WR-CALDESC:Arrangement for Visit Sauda
REFRESH-INTERVAL;VALUE=DURATION:PT1H
X-Robots-Tag:noindex
X-PUBLISHED-TTL:PT1H
BEGIN:VTIMEZONE
TZID:Europe/Oslo
BEGIN:DAYLIGHT
TZOFFSETFROM:+0100
TZOFFSETTO:+0200
TZNAME:CEST
DTSTART:20250330T010000
END:DAYLIGHT
BEGIN:STANDARD
TZOFFSETFROM:+0200
TZOFFSETTO:+0100
TZNAME:CET
DTSTART:20251026T010000
END:STANDARD
BEGIN:DAYLIGHT
TZOFFSETFROM:+0100
TZOFFSETTO:+0200
TZNAME:CEST
DTSTART:20260329T010000
END:DAYLIGHT
BEGIN:STANDARD
TZOFFSETFROM:+0200
TZOFFSETTO:+0100
TZNAME:CET
DTSTART:20261025T010000
END:STANDARD
BEGIN:DAYLIGHT
TZOFFSETFROM:+0100
TZOFFSETTO:+0200
TZNAME:CEST
DTSTART:20270328T010000
END:DAYLIGHT
BEGIN:STANDARD
TZOFFSETFROM:+0200
TZOFFSETTO:+0100
TZNAME:CET
DTSTART:20271031T010000
END:STANDARD
END:VTIMEZONE
BEGIN:VEVENT
DTSTART;TZID=Europe/Oslo:20260227T180000
DTEND;TZID=Europe/Oslo:20260227T180000
DTSTAMP:20260422T083157
CREATED:20260209T080325Z
LAST-MODIFIED:20260209T080325Z
UID:10000935-1772215200-1772215200@visitsauda.no
SUMMARY:Konserten "Pianodrømmer" med Ilze Jaunzeme
DESCRIPTION:En konsertreise til Mallorca og Skottland med Chopin og til Wien med Schubert. \nMusikk av: Chopin\, Schubert og Grieg \n\n\nI en tid der reiser ofte måles i flybilletter og hotellnetter\, inviterer pianisten Ilze Jaunzeme publikum med på en helt annen ferd – en indre reise\, gjennom musikkens rom og historiens skyggesider. \nMallorca er for mange nordmenn et kjent feriemål. For Frédéric Chopin var øya noe helt annet. Da han oppholdt seg der vinteren 1838–39\, var Mallorca ikke et sted for solhungrige turister\, men et avsondret landskap preget av sykdom\, fremmedgjøring og indre uro. I denne konserten får vi følge Chopin dit – til et Mallorca få kjenner\, og enda færre har lyttet seg inn i. \nVidere går reisen til Wien\, sett gjennom øynene til Franz Schubert\, i en tid dominert av Metternich-systemets strenge kontroll. Brev kunne bli åpnet og lest av myndighetene\, og frie meninger i det offentlige rom bar risiko for straff. Det var en epoke der taushet ofte var en nødvendighet – og der musikken ble et av de få stedene der følelsene kunne tale fritt. \nIlze Jaunzeme har holdt konserter i Latvia\, Norge\, Tyskland\, Sverige\, Ungarn og Canada\, og deltatt på anerkjente kammermusikkfestivaler som Aurora Winter Classic Festival i Sverige og Casalmaggiore International Music Festival i Italia. Som solist har hun opptrådt med blant annet Dresden Sinfonietta\, Lvivs kammerorkester og Scandinavian Chamber Soloists\, og hun er mottaker av Latvias kulturdepartements pris for fremragende kunstneriske prestasjoner.
URL:https://visitsauda.no/arrangement/konserten-pianodrommer-med-ilze-jaunzeme/
LOCATION:Saudasjøen kapell\, Sjøen 200\, Saudasjøen\, 4208\, Norway
ATTACH;FMTTYPE=image/png:https://visitsauda.no/wp-content/uploads/2026/02/2026-1920-x-1080-Kva-Skjer-19.png
END:VEVENT
BEGIN:VEVENT
DTSTART;TZID=Europe/Oslo:20260305T183000
DTEND;TZID=Europe/Oslo:20260305T183000
DTSTAMP:20260422T083157
CREATED:20260216T100915Z
LAST-MODIFIED:20260216T100944Z
UID:10000936-1772735400-1772735400@visitsauda.no
SUMMARY:Zontaklubben inviterer til Ingeborgprisen og åpent møte ✨
DESCRIPTION:Zontaklubben inviterer til Ingeborgprisen og åpent møte torsdag 5. mars kl. 18.30 på Folkets Hus ✨ \nKvelden markerer kvinnedagen \, og Ingeborgprisen deles ut til Ellen Marie Saua .\nIngrid Fatnes holder 8. mars-appell\, og TV-profil Elin Tvedt deler sin historie i foredraget Sårbar styrke. \nDet blir også kulturelt innslag  og kafe med noe attåt- \nBilletter kjøpes på saudakultur.no 💻 eller på biblioteket.\nVel møtt!
URL:https://visitsauda.no/arrangement/zontaklubben-inviterer-til-ingeborgprisen-og-apent-mote-%e2%9c%a8/
LOCATION:Folkets Hus\, Skulegata 20\, Sauda\, Rogaland\, 4200\, Norway
ATTACH;FMTTYPE=image/png:https://visitsauda.no/wp-content/uploads/2026/02/2026-1920-x-1080-Kva-Skjer-20.png
END:VEVENT
BEGIN:VEVENT
DTSTART;VALUE=DATE:20260307
DTEND;VALUE=DATE:20260308
DTSTAMP:20260422T083157
CREATED:20260122T081526Z
LAST-MODIFIED:20260122T081526Z
UID:10000932-1772841600-1772927999@visitsauda.no
SUMMARY:Vintercamp for barn og unge ❄️
DESCRIPTION:Sauda BCC inviterer til vintercamp for barn og unge i Sauda Skisenter lørdag 7. mars 2026. Arrangementet gjennomføres i samarbeid med idrettslaget og Park- og frikjøringslinja ved Sauda videregående.  \nInformasjon om påmelding\, program og praktiske detaljer publiseres fortløpende på Sauda BCC sine sosiale medier og på hjemmesiden deres så snart dette er klart.
URL:https://visitsauda.no/arrangement/vintercamp-for-barn-og-unge-%e2%9d%84%ef%b8%8f/
ATTACH;FMTTYPE=image/png:https://visitsauda.no/wp-content/uploads/2026/01/2026-1920-x-1080-Kva-Skjer-12.png
END:VEVENT
BEGIN:VEVENT
DTSTART;VALUE=DATE:20260307
DTEND;VALUE=DATE:20260309
DTSTAMP:20260422T083157
CREATED:20260209T074910Z
LAST-MODIFIED:20260209T074910Z
UID:10000934-1772841600-1773014399@visitsauda.no
SUMMARY:Teknikkurs i svømming 🏊‍♂️
DESCRIPTION:Saudahallen inviterer til teknikkurs i svømming over to dager helgen 7.–8. mars: \n📅 Lørdag: kl. 09.00–11.00📅 Søndag: kl. 10.00–12.00💰 Pris: 350 kr per person \nDet er fortsatt noen ledige plasser\, så her er det bare å melde seg på! \nKurset holdes av Magne Klementsen\, tidligere toppsvømmer på nasjonalt nivå. Han startet svømmekarrieren i Saudahallen og svømte for SIL på 70- og 80-tallet. Magne har også erfaring fra triatlon og er fortsatt en aktiv svømmer på veterannivå – med masse god erfaring han gjerne deler videre. \nDette er et teknikkbasert kurs for deg som bruker svømming til trening eller mosjon. Kurset er altså ikke ren svømmeopplæring\, men passer for deg som vil forbedre teknikken i vannet. \nMagne er en ekte saudapatriot\, har stor kjærlighet til Saudahallen\, og gjør dette fordi han synes det er kjekt å bidra og gi noe tilbake. 💙 \n📩 Spørsmål eller påmelding:Ta kontakt med Yvonne på yvonne.herheim@sauda.kommune.no
URL:https://visitsauda.no/arrangement/teknikkurs-i-svomming-%f0%9f%8f%8a%e2%99%82%ef%b8%8f/
LOCATION:Saudahallen
ATTACH;FMTTYPE=image/png:https://visitsauda.no/wp-content/uploads/2026/02/2026-1920-x-1080-Kva-Skjer-18.png
END:VEVENT
BEGIN:VEVENT
DTSTART;VALUE=DATE:20260313
DTEND;VALUE=DATE:20260315
DTSTAMP:20260422T083157
CREATED:20250423T075842Z
LAST-MODIFIED:20260204T095505Z
UID:10000850-1773360000-1773532799@visitsauda.no
SUMMARY:Heimfall Metallkraft 2026👹🎸
DESCRIPTION:Suksessen gjentas etter første Heimfall i 2025! I 2026 går festivalen over to dager. Mer informasjon kommer. \nArrangør: Sauda Metall- og Tungrocklag.
URL:https://visitsauda.no/arrangement/heimfall-metallkraft-2026/
ATTACH;FMTTYPE=image/png:https://visitsauda.no/wp-content/uploads/2025/04/2026-1920-x-1080-Kva-Skjer-17.png
END:VEVENT
BEGIN:VEVENT
DTSTART;TZID=Europe/Oslo:20260319T190000
DTEND;TZID=Europe/Oslo:20260319T200000
DTSTAMP:20260422T083157
CREATED:20260302T110420Z
LAST-MODIFIED:20260302T114824Z
UID:10000939-1773946800-1773950400@visitsauda.no
SUMMARY:Litteraturbåten Epos i Sauda: Maria Lavik ⛴️
DESCRIPTION:Litteraturbåten Epos kommer til Sauda og ønsker velkommen om bord til foredrag med Maria Lavik. \nMaria Lavik er aktuell med boka Odelsskam – å gi slipp på en gård etter femten generasjoner. Hun er journalist i Vårt Land\, og har tidligere gitt ut boka Vi\, de fattige. Lavik kommer fra Eksingedalen\, men bor i Oslo. Som odelsjente har hun stått i valget mellom å ta over gården og holde fast ved røttene hjemme – eller å bli værende i livet på Sagene\, som hun selv har skapt. \nBilletter: 100 kr. \nPå Epos finner du bokhandel\, kaffe og godt lag. Velkommen! \nFoto: Tove K. BreisteinArrangementet er støttet av Kulturrådet
URL:https://visitsauda.no/arrangement/litteraturbaten-epos-i-sauda-maria-lavik-%e2%9b%b4%ef%b8%8f/
ATTACH;FMTTYPE=image/png:https://visitsauda.no/wp-content/uploads/2026/03/2026-1920-x-1080-Kva-Skjer-17.png
END:VEVENT
BEGIN:VEVENT
DTSTART;TZID=Europe/Oslo:20260322T170000
DTEND;TZID=Europe/Oslo:20260322T170000
DTSTAMP:20260422T083157
CREATED:20260309T093745Z
LAST-MODIFIED:20260309T093745Z
UID:10000940-1774198800-1774198800@visitsauda.no
SUMMARY:Vårkonsert med Sauda Musikklag 🌿
DESCRIPTION:Sauda Musikklag inviterer til vårkonsert – en kveld fylt med spilleglede\, variasjon og sterke musikalske øyeblikk. Publikum kan se fram til et program som spenner fra klassiske perler til blues og pop. \nGjestedirigent for konserten er Eirik Gjerdevik\, også kjent som Eirik the Viking. Med smittende engasjement\, solid musikalsk håndverk og glimt i øye leier han korpset gjennom eit variert og publikumsvennlig program med både kraft\, kjensle og ekte speleglede. \nDenne kvelden får publikum også møte Åsne Stensvåg Seim som solist. Hun vil framføre flere sangar med sin vakre stemme og sette et ekstra preg på konserten. \nI pausen blir det åresal\, så publikum blir oppfordret til å ta med litt kontanter eller bruke Vipps. \nSauda Musikklag ønsker velkommen til en stemningsfull kveld fylt med energi\, fellesskap og ekte musikkglede. \n\nKjøp billett på saudakultur.no
URL:https://visitsauda.no/arrangement/varkonsert-med-sauda-musikklag-%f0%9f%8c%bf/
ATTACH;FMTTYPE=image/png:https://visitsauda.no/wp-content/uploads/2026/03/2026-1920-x-1080-Kva-Skjer-24.png
END:VEVENT
BEGIN:VEVENT
DTSTART;TZID=Europe/Oslo:20260325T190000
DTEND;TZID=Europe/Oslo:20260325T190000
DTSTAMP:20260422T083157
CREATED:20260225T085441Z
LAST-MODIFIED:20260225T085441Z
UID:10000938-1774465200-1774465200@visitsauda.no
SUMMARY:Elibra dansestudio: SAMSARA🕺
DESCRIPTION:Velkommen til SAMSARA – en danseforestilling av Elibra Dansestudio\, inspirert av årstidene og de små og store øyeblikkene som følger med dem. \nMed 60 dansere i alderen 8 til 50 år inviterer Elibra Dansestudio publikum med på en stemningsfull reise gjennom året – fra 17. mai-feiring og sommermoro til halloweenfest og glitrende nyttår. \nPublikum kan glede seg til en fargerik\, livlig og variert forestilling for hele familien.
URL:https://visitsauda.no/arrangement/elibra-dansestudio-samsara%f0%9f%95%ba/
LOCATION:Folkets Hus\, Skulegata 20\, Sauda\, Rogaland\, 4200\, Norway
ATTACH;FMTTYPE=image/png:https://visitsauda.no/wp-content/uploads/2026/02/2026-1920-x-1080-Kva-Skjer-22.png
END:VEVENT
BEGIN:VEVENT
DTSTART;VALUE=DATE:20260408
DTEND;VALUE=DATE:20260412
DTSTAMP:20260422T083157
CREATED:20260121T074145Z
LAST-MODIFIED:20260121T080351Z
UID:10000931-1775606400-1775951999@visitsauda.no
SUMMARY:Sauda Backcountry Challenge 2026 💥
DESCRIPTION:Årets Sauda BCCer større enn tidligere\, blant annet fordi programmet i 2026 er utvidet med en 4-stjerners konkurranse. Dette løfter BCC til å bli den største konkurransen i Skandinavia og en av de mest ettertraktede i Europa. \nProgram: \nSauda BCC Senior – 4 stjerner (FWTQ) arrangeres 8.–10. april 2026. 8. og 9. april er satt av som værdager\, og fredag 10. april er planlagt som konkurransedag. \nSauda BCC Junior – 3 stjerner (FWTJ) arrangeres med samme opplegg og datoer som senior 4 stjerner. \nLørdag 11. april 2026 arrangeres: \n·         Sauda BCC Senior – 2 stjerner (FWTQ) \n·         Sauda BCC Junior – 2 stjerner (FWTJ) \n·         Sauda BCC Kids (8–12 år) \nPremieutdeling og afterparty holdes i storesalen på Folkets Hus lørdag 11. april 2026. Følg med på saudakultur.no for billettslipp for premieutdeling og afterparty. \nFor oppdatert informasjon vises det til www.saudabcc.com\, samt arrangementets Instagram og Facebook.
URL:https://visitsauda.no/arrangement/sauda-backcountry-challenge-2026-%f0%9f%92%a5/
ATTACH;FMTTYPE=image/png:https://visitsauda.no/wp-content/uploads/2026/01/2026-1920-x-1080-Kva-Skjer-13.png
END:VEVENT
BEGIN:VEVENT
DTSTART;VALUE=DATE:20260523
DTEND;VALUE=DATE:20260524
DTSTAMP:20260422T083157
CREATED:20250623T123534Z
LAST-MODIFIED:20250623T123534Z
UID:10000865-1779494400-1779580799@visitsauda.no
SUMMARY:Saudafjellet maraton 🏃‍♀️
DESCRIPTION:Lørdag 23. mai 2026 inviteres løpere fra fjern og nær til vestlandets vakreste løp – Saudafjellet Maraton. Deltakerne får oppleve en løype som slynger seg gjennom storslåtte fjellandskap\, dype daler\, brusende fossefall og arkitektur i verdensklasse. \nEtter suksessen i 2025 blir løpet arrangert på nytt\, med mulighet til å velge mellom flere distanser:🏁 Maraton – 42 km💥 Halvmaraton – 21 km🔢 10 km🏅 Barneløp \nHvorfor delta?🌄 Spektakulær natur: Løypa går gjennom et av Norges vakreste fjellområder\, med dramatiske utsikter som gjør hvert steg verdt det.🏃 En utfordring verdt å ta: Uansett distanse venter en fantastisk naturopplevelse og en folkefest langs løypa.🍃 Ren fjelluft og rå løpsopplevelse: Perfekt for alle som ønsker å kombinere fysisk utfordring med uforglemmelige omgivelser.🎉 Fantastisk stemning: Publikum og lokale ildsjeler sørger for heiarop og god stemning fra start til mål. \n📅 Løpsdag: Lørdag 23. mai 2026📝 Påmelding åpner: 1. september 2025 \nFølg Saudafjellet Maraton på Facebook for nyheter og påminnelser når påmeldingen åpner!
URL:https://visitsauda.no/arrangement/saudafjellet-maraton-%f0%9f%8f%83%e2%99%80%ef%b8%8f/
ATTACH;FMTTYPE=image/png:https://visitsauda.no/wp-content/uploads/2025/06/2025-Kva-skjer-kalender-38.png
END:VEVENT
BEGIN:VEVENT
DTSTART;TZID=Europe/Oslo:20260523T100000
DTEND;TZID=Europe/Oslo:20260523T113000
DTSTAMP:20260422T083157
CREATED:20260326T084910Z
LAST-MODIFIED:20260326T090148Z
UID:10000941-1779530400-1779535800@visitsauda.no
SUMMARY:Generasjonslekene 2026 🥎
DESCRIPTION:Generasjonslekene arrangeres i år i forbindelse med Saudafjellet Maraton lørdag 23. mai. Mellom kl. 10.00 og 11.30 blir det ulike aktiviteter på Tangen mens publikum venter på maratonløperne. \nArrangementet er et samarbeid mellom Sauda kommune\, Sauda sykkelklubb\, Sauda IL\, Mental Helse\, Sauda Røde Kors og Nasjonalforeningen for folkehelsen. \nDet blir aktiviteter for alle aldre\, underholdning\, premier og enkel servering. Kl. 11.30 starter Saudafjellet Maraton sitt barneløp fra Tangen.
URL:https://visitsauda.no/arrangement/generasjonslekene-2026-%f0%9f%a5%8e/
ATTACH;FMTTYPE=image/png:https://visitsauda.no/wp-content/uploads/2026/03/2026-1920-x-1080-Kva-Skjer-25.png
END:VEVENT
BEGIN:VEVENT
DTSTART;VALUE=DATE:20260527
DTEND;VALUE=DATE:20260601
DTSTAMP:20260422T083157
CREATED:20250721T081339Z
LAST-MODIFIED:20250721T081423Z
UID:10000867-1779840000-1780271999@visitsauda.no
SUMMARY:Saudadagane 27. - 31. mai 2026🎊
DESCRIPTION:Festivalen innerst i Ryfylke 🎉 \nTradisjonen tro arrangeres Saudadagane i Sauda den siste hele helgen i mai\, og markerer starten på sommeren med fullt program for alle! I 2026 går det av stabelen 27.–31. mai\, så merk kalenderen og bli med på folkefesten! 🎉 \nHøydepunker:\n\n\nFamilieaktiviteter på dagtid – her er det noe for både små og store\, med alt fra leker til sportslige utfordringer. \n\n\nKonserter på kveldstid – tidligere år har vi hatt kjente band som Loveshack\, Vassendgutane og Podsoll.  \n\n\nMarked og gode tilbud hos lokale handels­drivende – perfekt for å handle lokalt og støtte næringslivet. \n\n\nEn ekte dugnadsfestival – over 50 år med fellesskap\, og arrangementet drives av engasjerte Sauda-beboere.  \n\n\nFeiring av lokalt kulturliv – en samlende arena for grupper\, lag\, familier og enkeltpersoner. 
URL:https://visitsauda.no/arrangement/saudadagane-27-31-mai-2026/
CATEGORIES:Konsert,Vår
ATTACH;FMTTYPE=image/png:https://visitsauda.no/wp-content/uploads/2025/07/2025-Kva-skjer-kalender-42.png
END:VEVENT
BEGIN:VEVENT
DTSTART;TZID=Europe/Oslo:20260601T170000
DTEND;TZID=Europe/Oslo:20260601T190000
DTSTAMP:20260422T083157
CREATED:20260413T121846Z
LAST-MODIFIED:20260413T121846Z
UID:10000942-1780333200-1780340400@visitsauda.no
SUMMARY:Pridefeiring i Sauda 🌈
DESCRIPTION:Sauda IL\, Mental Helse og Sauda AP ønsker også i år å markere PRIDE i Sauda\, og inviterer hele bygda til en inkluderende og hyggelig samling på Rådhusplassen. \nSted: RådhusplassenTid: 17.00–19.00For: Alle \nDet blir taler\, underholdning\, barneaktiviteter\, gratis mat og god stemning med musikk. \nArrangørene håper mange vil bidra med å dele arrangementet\, slik at flest mulig får mulighet til å bli med.
URL:https://visitsauda.no/arrangement/pridefeiring-i-sauda-%f0%9f%8c%88/
ATTACH;FMTTYPE=image/png:https://visitsauda.no/wp-content/uploads/2026/04/2026-1920-x-1080-Kva-Skjer-26.png
END:VEVENT
BEGIN:VEVENT
DTSTART;TZID=Europe/Oslo:20260606T100000
DTEND;TZID=Europe/Oslo:20260606T160000
DTSTAMP:20260422T083157
CREATED:20260223T084138Z
LAST-MODIFIED:20260223T084138Z
UID:10000937-1780740000-1780761600@visitsauda.no
SUMMARY:Hovlandsnuten Opp 2026 ⛰️
DESCRIPTION:Hovlandsnuten Opp inviterer både trimmere og aktive løpere til en dag fylt med mestring\, fellesskap og god stemning. Arrangementet passer for alle som ønsker en flott tur til fjells – enten målet er å gå i rolig tempo\, utfordre seg selv eller jakte en ny personlig rekord. \nFor trimmere kan starten tas når det passer innenfor trimtiden\, og turen kan nytes i eget tempo. Dette gjør Hovlandsnuten Opp til en perfekt opplevelse for familier\, vennegjenger og alle som vil oppleve Eventyrskogen og fjellet på sitt beste. \nFor aktive deltakere blir det fellesstart og tidtaking\, med konkurranseklasse for både kvinner og menn. \nTuren går fra Risvoll skule til Hovlandsnuten (931 moh.). \nPå toppen venter fantastisk utsikt fra Nuten og VIDSYN-hyttå\, god stemning og heiarop fra frivillige og medløpere.
URL:https://visitsauda.no/arrangement/hovlandsnuten-opp-2026-%e2%9b%b0%ef%b8%8f/
ATTACH;FMTTYPE=image/png:https://visitsauda.no/wp-content/uploads/2026/02/2026-1920-x-1080-Kva-Skjer-21.png
END:VEVENT
BEGIN:VEVENT
DTSTART;VALUE=DATE:20260619
DTEND;VALUE=DATE:20260621
DTSTAMP:20260422T083157
CREATED:20260122T085800Z
LAST-MODIFIED:20260225T074715Z
UID:10000933-1781827200-1781999999@visitsauda.no
SUMMARY:Saudatreffen 2026 🪗
DESCRIPTION:Saudatreffen 2026 – Trekkspill- og Toradertreff 🎶✨ \nSauda Trekkspillklubb arrangerer Saudatreffen 2026\, en helg fylt med musikk\, dans og hyggelig samvær på Sauda Fjordhotell 19. og 20. juni 2026. 🪗🎻 \nMer informasjon kommer. \n\nMelodiene som blir spilt på Bankplassen lørdag 20. juni er: Amanda fra Haugesund | Fotlandfossen | La oss leve for hverandre | Sangen til bygda | Sommernatt i Froland | Feriedrømmen | Titanolåten | For evig og alltid | Boogie raggie | Vårvise i naustet | Rosa på ball \n 
URL:https://visitsauda.no/arrangement/saudatreffen-2026-%f0%9f%aa%97/
LOCATION:Sauda Fjordhotell\, Sjøen 2\, Saudasjøen\, 4208\, Norway
ATTACH;FMTTYPE=image/png:https://visitsauda.no/wp-content/uploads/2026/01/2026-1920-x-1080-Kva-Skjer-16.png
END:VEVENT
END:VCALENDAR